BEGIN:VCALENDAR
VERSION:2.0
PRODID:-//WatercoloursWA - ECPv6.15.20//NONSGML v1.0//EN
CALSCALE:GREGORIAN
METHOD:PUBLISH
X-WR-CALNAME:WatercoloursWA
X-ORIGINAL-URL:https://watercolourswa.org.au
X-WR-CALDESC:Events for WatercoloursWA
REFRESH-INTERVAL;VALUE=DURATION:PT1H
X-Robots-Tag:noindex
X-PUBLISHED-TTL:PT1H
BEGIN:VTIMEZONE
TZID:Australia/Perth
BEGIN:STANDARD
TZOFFSETFROM:+0800
TZOFFSETTO:+0800
TZNAME:AWST
DTSTART:20230101T000000
END:STANDARD
END:VTIMEZONE
BEGIN:VEVENT
DTSTART;TZID=Australia/Perth:20250301T090000
DTEND;TZID=Australia/Perth:20250301T123000
DTSTAMP:20260420T094931
CREATED:20250126T043225Z
LAST-MODIFIED:20250126T045226Z
UID:241288-1740819600-1740832200@watercolourswa.org.au
SUMMARY:Social Paint Out - Saturday 1 March 2025
DESCRIPTION:The Kent Street Weir – Parking is at the cafe and then probably wander to the right of the cafe – it’s a wide space and easy to spot \nIt has parking\, cafe\, shady trees\, lots of benches & shady shelters\, bridge over river (weir)\, board walks\, canoes\, dogs\, little Castledare miniature railway station\, ukulele group\, dogs\, bird life and lots of river aspects. \nDon’t forget to contact Sue Bass to let her know you are coming.  Just in case the event location or times change. \nLocation Link
URL:https://watercolourswa.org.au/event/social-paint-out-march-2025/
LOCATION:Kent Street Weir\, Kent Street\, Wilson\, WA
CATEGORIES:Paint Out
ATTACH;FMTTYPE=image/jpeg:https://watercolourswa.org.au/wp-content/uploads/2025/01/WhatsApp-Image-2025-01-25-at-10.38.54_6f831f7e.jpg
ORGANIZER;CN="Sue Bass":MAILTO:newsletter@watercolourswa.org.au
END:VEVENT
BEGIN:VEVENT
DTSTART;TZID=Australia/Perth:20250225T100000
DTEND;TZID=Australia/Perth:20250225T123000
DTSTAMP:20260420T094931
CREATED:20241211T044051Z
LAST-MODIFIED:20241215T083240Z
UID:240861-1740477600-1740486600@watercolourswa.org.au
SUMMARY:General Meeting - Tuesday 25 February 2025
DESCRIPTION:Show us Your Art:  Glass\nGuest Hour: Jacksons Art Supplies\n 
URL:https://watercolourswa.org.au/event/general-meeting-february-2025/
LOCATION:Inglewood Arts Hub\, 895 Beaufort St\, Inglewood\, Western Australia\, 6052\, Australia
CATEGORIES:General Meeting
ATTACH;FMTTYPE=image/png:https://watercolourswa.org.au/wp-content/uploads/2024/12/Screenshot-2024-12-11-124443.png
END:VEVENT
BEGIN:VEVENT
DTSTART;TZID=Australia/Perth:20250204T100000
DTEND;TZID=Australia/Perth:20250204T130000
DTSTAMP:20260420T094931
CREATED:20241211T042823Z
LAST-MODIFIED:20241215T083423Z
UID:240855-1738663200-1738674000@watercolourswa.org.au
SUMMARY:Committee Meeting - Tuesday 4 February 2025
DESCRIPTION:The February Committee Meeting will be held at Suba’s House.
URL:https://watercolourswa.org.au/event/committee-meeting-february/
LOCATION:6 Calley Way\, Canning Vale\, 6 Calley Way\, Canning Vale\, WA\, Australia
CATEGORIES:Committee Meeting
ATTACH;FMTTYPE=image/png:https://watercolourswa.org.au/wp-content/uploads/2024/12/Screenshot-2024-12-11-at-12-30-14-Instagram.png
ORGANIZER;CN="Suba Maniam":MAILTO:artsuba@ymail.com
END:VEVENT
BEGIN:VEVENT
DTSTART;TZID=Australia/Perth:20250202T160000
DTEND;TZID=Australia/Perth:20250202T190000
DTSTAMP:20260420T094931
CREATED:20241211T050521Z
LAST-MODIFIED:20250108T022625Z
UID:240867-1738512000-1738522800@watercolourswa.org.au
SUMMARY:Social Paint Out - Sunday 2 February 2025
DESCRIPTION:NOTICE:  The time has changed on this paint-out.  It is now late afternoon\, early evening.  The weather is too hot for a early paint out. \nRemember\, text the Organiser to tell them you are coming\, so that if there is a change of venue\, you will be notified. \nDrive safely and dress for the weather.
URL:https://watercolourswa.org.au/event/social-paint-out-february-2025/
LOCATION:Arts Sanctuary Foundion\, 1 Cockram Road\, Kelmscott\, WA\, Australia
CATEGORIES:Paint Out
ATTACH;FMTTYPE=image/png:https://watercolourswa.org.au/wp-content/uploads/2024/12/Screenshot-2024-12-11-at-15-14-07-Armadale-Hills-Arts-Trail-2024-—-The-Art-Sanctuary.png
ORGANIZER;CN="Suba Maniam":MAILTO:artsuba@ymail.com
END:VEVENT
BEGIN:VEVENT
DTSTART;TZID=Australia/Perth:20241217T100000
DTEND;TZID=Australia/Perth:20241217T150000
DTSTAMP:20260420T094931
CREATED:20240809T014350Z
LAST-MODIFIED:20241202T075724Z
UID:240219-1734429600-1734447600@watercolourswa.org.au
SUMMARY:General Meeting & Xmas Lunch December
DESCRIPTION:Xmas Lunch @ 1pm \nBook your place via the Members only page.  Members Only Link
URL:https://watercolourswa.org.au/event/general-meeting/
LOCATION:Inglewood Arts Hub\, 895 Beaufort St\, Inglewood\, Western Australia\, 6052\, Australia
CATEGORIES:General Meeting
ATTACH;FMTTYPE=image/jpeg:https://watercolourswa.org.au/wp-content/uploads/2024/08/IMG_4705.jpg
END:VEVENT
BEGIN:VEVENT
DTSTART;TZID=Australia/Perth:20241207T090000
DTEND;TZID=Australia/Perth:20241207T090000
DTSTAMP:20260420T094931
CREATED:20241128T092903Z
LAST-MODIFIED:20241202T075939Z
UID:240762-1733562000-1733562000@watercolourswa.org.au
SUMMARY:Social Paint Out - 7 December 2024
DESCRIPTION:Social Paint Out: 7th December\nOrganizer: Jane Zandi\nPhone: 0403 940 699\nStart: 9am\nLocation: City Farm\, East Perth
URL:https://watercolourswa.org.au/event/social-paint-out/
LOCATION:Perth City Farm\, 1 City Farm Place\, East Perth\, WA\, 6004\, Australia
CATEGORIES:Featured,Paint Out
ATTACH;FMTTYPE=image/jpeg:https://watercolourswa.org.au/wp-content/uploads/2024/11/Lisa-Nicole-Imagery2.jpg
ORGANIZER;CN="Jane Zandi":MAILTO:president@watercolourswa.org.au
END:VEVENT
BEGIN:VEVENT
DTSTART;TZID=Australia/Perth:20241203T100000
DTEND;TZID=Australia/Perth:20241203T123000
DTSTAMP:20260420T094931
CREATED:20240809T014233Z
LAST-MODIFIED:20240809T040430Z
UID:240217-1733220000-1733229000@watercolourswa.org.au
SUMMARY:Committee Meeting December
DESCRIPTION:
URL:https://watercolourswa.org.au/event/committee-meeting/
LOCATION:Inglewood Arts Hub\, 895 Beaufort St\, Inglewood\, Western Australia\, 6052\, Australia
CATEGORIES:Committee Meeting
END:VEVENT
BEGIN:VEVENT
DTSTART;TZID=Australia/Perth:20241119T100000
DTEND;TZID=Australia/Perth:20241119T120000
DTSTAMP:20260420T094931
CREATED:20240717T090219Z
LAST-MODIFIED:20241112T231432Z
UID:239827-1732010400-1732017600@watercolourswa.org.au
SUMMARY:General Meeting November
DESCRIPTION:Show Us Your Art: Purple Rain
URL:https://watercolourswa.org.au/event/general-meeting-november/
LOCATION:Inglewood Arts Hub\, 895 Beaufort St\, Inglewood\, Western Australia\, 6052\, Australia
CATEGORIES:General Meeting
END:VEVENT
BEGIN:VEVENT
DTSTART;TZID=Australia/Perth:20241105T100000
DTEND;TZID=Australia/Perth:20241105T110000
DTSTAMP:20260420T094931
CREATED:20240717T090122Z
LAST-MODIFIED:20240808T135854Z
UID:239825-1730800800-1730804400@watercolourswa.org.au
SUMMARY:Committee Meeting November
DESCRIPTION:
URL:https://watercolourswa.org.au/event/committee-meeting-november/
LOCATION:Inglewood Arts Hub\, 895 Beaufort St\, Inglewood\, Western Australia\, 6052\, Australia
CATEGORIES:Committee Meeting
END:VEVENT
BEGIN:VEVENT
DTSTART;VALUE=DATE:20241101
DTEND;VALUE=DATE:20241202
DTSTAMP:20260420T094931
CREATED:20240717T090335Z
LAST-MODIFIED:20240809T001315Z
UID:239829-1730419200-1733097599@watercolourswa.org.au
SUMMARY:York Exhibition
DESCRIPTION:An exhibition at the Pantechnica Gallery art and artifacts in the centre of York.  Paintings will be painted during the Getaway.  Bring frames when you come to York and be ready to exhibit.
URL:https://watercolourswa.org.au/event/york-exhibition/
LOCATION:WA
CATEGORIES:Exhibition
END:VEVENT
BEGIN:VEVENT
DTSTART;VALUE=DATE:20241101
DTEND;VALUE=DATE:20241102
DTSTAMP:20260420T094931
CREATED:20240717T090424Z
LAST-MODIFIED:20240809T001401Z
UID:239831-1730419200-1730505599@watercolourswa.org.au
SUMMARY:York Exhibition Opening Night
DESCRIPTION:Opening night for the Pantechnica Gallery art and artifacts Exhibition.
URL:https://watercolourswa.org.au/event/york-exhibition-opening-night/
LOCATION:WA
CATEGORIES:Exhibition
END:VEVENT
BEGIN:VEVENT
DTSTART;VALUE=DATE:20241026
DTEND;VALUE=DATE:20241103
DTSTAMP:20260420T094931
CREATED:20240717T090025Z
LAST-MODIFIED:20240717T090025Z
UID:239823-1729900800-1730591999@watercolourswa.org.au
SUMMARY:Getaway York
DESCRIPTION:
URL:https://watercolourswa.org.au/event/getaway-york/
LOCATION:WA
CATEGORIES:Annual Getaway
END:VEVENT
BEGIN:VEVENT
DTSTART;TZID=Australia/Perth:20241022T100000
DTEND;TZID=Australia/Perth:20241022T120000
DTSTAMP:20260420T094931
CREATED:20240717T085911Z
LAST-MODIFIED:20240920T000358Z
UID:239821-1729591200-1729598400@watercolourswa.org.au
SUMMARY:General Meeting October
DESCRIPTION:*Fourth Tuesday\nShow Us Your Art: Leather and Lace \nGuest Hour: Jude Scott
URL:https://watercolourswa.org.au/event/general-meeting-october/
LOCATION:Inglewood Arts Hub\, 895 Beaufort St\, Inglewood\, Western Australia\, 6052\, Australia
CATEGORIES:General Meeting
END:VEVENT
BEGIN:VEVENT
DTSTART;TZID=Australia/Perth:20241012T120000
DTEND;TZID=Australia/Perth:20241012T150000
DTSTAMP:20260420T094931
CREATED:20240928T000410Z
LAST-MODIFIED:20240928T000410Z
UID:240481-1728734400-1728745200@watercolourswa.org.au
SUMMARY:Plein Air Quick Draw Competition
DESCRIPTION:Presented by Friends of Lawrence Wilson Art Gallery\nRegistrations from 12 pm\, Quick Draw commences at 1pm.  Awards at 3pm.\nGeneral Entry $25.\nPlenty of prizes to be won
URL:https://watercolourswa.org.au/event/plein-air-quick-draw-competition/
LOCATION:Forrest Hall UWA\, Forrest Hall\, UWA\, Nedlands\, Australia
CATEGORIES:Plein Air
END:VEVENT
BEGIN:VEVENT
DTSTART;TZID=Australia/Perth:20241001T100000
DTEND;TZID=Australia/Perth:20241001T110000
DTSTAMP:20260420T094931
CREATED:20240717T085635Z
LAST-MODIFIED:20240808T135611Z
UID:239819-1727776800-1727780400@watercolourswa.org.au
SUMMARY:Committee Meeting October
DESCRIPTION:
URL:https://watercolourswa.org.au/event/committee-meeting-october/
LOCATION:Inglewood Arts Hub\, 895 Beaufort St\, Inglewood\, Western Australia\, 6052\, Australia
CATEGORIES:Committee Meeting
END:VEVENT
BEGIN:VEVENT
DTSTART;TZID=Australia/Perth:20240924T100000
DTEND;TZID=Australia/Perth:20240924T120000
DTSTAMP:20260420T094931
CREATED:20240715T033034Z
LAST-MODIFIED:20240920T000244Z
UID:239775-1727172000-1727179200@watercolourswa.org.au
SUMMARY:General Meeting September
DESCRIPTION:Show Us Your Art: \nMovement\, Dance\, Dance\, Dance \nGuest Hour: Panel invited guests
URL:https://watercolourswa.org.au/event/general-meeting-september/
LOCATION:Inglewood Arts Hub\, 895 Beaufort St\, Inglewood\, Western Australia\, 6052\, Australia
CATEGORIES:General Meeting
END:VEVENT
BEGIN:VEVENT
DTSTART;TZID=Australia/Perth:20240910T100000
DTEND;TZID=Australia/Perth:20240910T123000
DTSTAMP:20260420T094931
CREATED:20240717T085504Z
LAST-MODIFIED:20240809T000445Z
UID:239817-1725962400-1725971400@watercolourswa.org.au
SUMMARY:Committee Meeting September
DESCRIPTION:
URL:https://watercolourswa.org.au/event/committee-meeting-september/
LOCATION:Inglewood Arts Hub\, 895 Beaufort St\, Inglewood\, Western Australia\, 6052\, Australia
CATEGORIES:Committee Meeting
END:VEVENT
BEGIN:VEVENT
DTSTART;VALUE=DATE:20240904
DTEND;VALUE=DATE:20240909
DTSTAMP:20260420T094931
CREATED:20240715T033345Z
LAST-MODIFIED:20240715T033647Z
UID:239777-1725408000-1725839999@watercolourswa.org.au
SUMMARY:Annual Awards Exhibition 2024
DESCRIPTION:Special Category : Sustainability
URL:https://watercolourswa.org.au/event/annual-awards-exhibition-2024/
LOCATION:Perth City Farm\, 1 City Farm Place\, East Perth\, WA\, 6004\, Australia
CATEGORIES:AAE
END:VEVENT
BEGIN:VEVENT
DTSTART;TZID=Australia/Perth:20240827T100000
DTEND;TZID=Australia/Perth:20240827T120000
DTSTAMP:20260420T094931
CREATED:20240715T032920Z
LAST-MODIFIED:20240808T013541Z
UID:239773-1724752800-1724760000@watercolourswa.org.au
SUMMARY:General Meeting August
DESCRIPTION:Show us Your Art: \n1920s Art Deco \nDemonstration Painting Birds by Jane Li
URL:https://watercolourswa.org.au/event/general-meeting-august/
LOCATION:Inglewood Arts Hub\, 895 Beaufort St\, Inglewood\, Western Australia\, 6052\, Australia
CATEGORIES:General Meeting
END:VEVENT
BEGIN:VEVENT
DTSTART;TZID=Australia/Perth:20240824T080000
DTEND;TZID=Australia/Perth:20240824T123000
DTSTAMP:20260420T094931
CREATED:20240802T031832Z
LAST-MODIFIED:20240802T031832Z
UID:240034-1724486400-1724502600@watercolourswa.org.au
SUMMARY:AAE Paint Out
DESCRIPTION:It’s market day so plenty of subjects to choose from as well as stalls to buy from! \nPlus we have arranged a coffee and cake deal with Be Free Cafe (onsite) for just $9….come for the chat\, coffee\, cake and paint!!
URL:https://watercolourswa.org.au/event/aae-paint-out/
LOCATION:Perth City Farm\, 1 City Farm Place\, East Perth\, WA\, 6004\, Australia
CATEGORIES:Paint Out
END:VEVENT
BEGIN:VEVENT
DTSTART;TZID=Australia/Perth:20240806T000000
DTEND;TZID=Australia/Perth:20240806T000000
DTSTAMP:20260420T094931
CREATED:20240715T032755Z
LAST-MODIFIED:20240715T032755Z
UID:239771-1722902400-1722902400@watercolourswa.org.au
SUMMARY:Committee Meeting August
DESCRIPTION:
URL:https://watercolourswa.org.au/event/committee-meeting-august/
LOCATION:WA
CATEGORIES:Committee Meeting
END:VEVENT
BEGIN:VEVENT
DTSTART;TZID=Australia/Perth:20240720T100000
DTEND;TZID=Australia/Perth:20240720T113000
DTSTAMP:20260420T094931
CREATED:20240715T051509Z
LAST-MODIFIED:20240715T080232Z
UID:239781-1721469600-1721475000@watercolourswa.org.au
SUMMARY:Eudes Correia Demonstration
DESCRIPTION:Eudes Correia is one of the most outstanding contemporary watercolor artists on the world stage. \nHe transforms ordinary people who travel in the city\, almost invisible\, into the protagonists of his work. Always counting a history with sensibility and personality. \nThe venue is the Maritime Museum and the demonstration space is modern with good seating.  Use the link to book your seat. \nThe cost to the public is $25 plus a small booking fee. Places are limited so don’t delay.
URL:https://watercolourswa.org.au/event/eudes-correia-demonstration/
LOCATION:Maritime Museum\, Victoria Quay road\, Fremantle\, WA\, 6160\, Australia
CATEGORIES:Workshops
END:VEVENT
BEGIN:VEVENT
DTSTART;TZID=Australia/Perth:20240716T120000
DTEND;TZID=Australia/Perth:20240716T150000
DTSTAMP:20260420T094931
CREATED:20240715T040039Z
LAST-MODIFIED:20240715T032450Z
UID:239763-1721131200-1721142000@watercolourswa.org.au
SUMMARY:2024 AGM
DESCRIPTION:Lunch provided 3pm close
URL:https://watercolourswa.org.au/event/2024-agm/
LOCATION:Inglewood Arts Hub\, 895 Beaufort St\, Inglewood\, Western Australia\, 6052\, Australia
CATEGORIES:AGM
END:VEVENT
BEGIN:VEVENT
DTSTART;TZID=Australia/Perth:20240716T100000
DTEND;TZID=Australia/Perth:20240716T120000
DTSTAMP:20260420T094931
CREATED:20240715T032628Z
LAST-MODIFIED:20240715T033427Z
UID:239766-1721124000-1721131200@watercolourswa.org.au
SUMMARY:General Meeting July
DESCRIPTION:Watercolours WA Portrait Prize
URL:https://watercolourswa.org.au/event/general-meeting-july/
LOCATION:Inglewood Arts Hub\, 895 Beaufort St\, Inglewood\, Western Australia\, 6052\, Australia
CATEGORIES:General Meeting
END:VEVENT
BEGIN:VEVENT
DTSTART;TZID=Australia/Perth:20240715T105912
DTEND;TZID=Australia/Perth:20240715T105912
DTSTAMP:20260420T094931
CREATED:20220511T031715Z
LAST-MODIFIED:20220511T031717Z
UID:234874-1721041152-1721041152@watercolourswa.org.au
SUMMARY:Registration for IWEF
DESCRIPTION:Lobby of the Moores Building\n\nHenry Street\n\nFremantle
URL:https://watercolourswa.org.au/event/registration-for-iwef/
LOCATION:WA
END:VEVENT
END:VCALENDAR