BEGIN:VCALENDAR
VERSION:2.0
PRODID:-//WatercoloursWA - ECPv6.15.20//NONSGML v1.0//EN
CALSCALE:GREGORIAN
METHOD:PUBLISH
X-ORIGINAL-URL:https://watercolourswa.org.au
X-WR-CALDESC:Events for WatercoloursWA
REFRESH-INTERVAL;VALUE=DURATION:PT1H
X-Robots-Tag:noindex
X-PUBLISHED-TTL:PT1H
BEGIN:VTIMEZONE
TZID:Australia/Perth
BEGIN:STANDARD
TZOFFSETFROM:+0800
TZOFFSETTO:+0800
TZNAME:AWST
DTSTART:20240101T000000
END:STANDARD
END:VTIMEZONE
BEGIN:VEVENT
DTSTART;TZID=Australia/Perth:20250901T080000
DTEND;TZID=Australia/Perth:20250901T120000
DTSTAMP:20260421T114412
CREATED:20250624T012909Z
LAST-MODIFIED:20250624T012909Z
UID:241695-1756713600-1756728000@watercolourswa.org.au
SUMMARY:No Social Paint Out - September
DESCRIPTION:Due to the Getaway and the AAE both being in September\, there will not be a Social Paint out that month.
URL:https://watercolourswa.org.au/event/no-social-paint-out-september/
LOCATION:WA
CATEGORIES:Paint Out
ATTACH;FMTTYPE=image/jpeg:https://watercolourswa.org.au/wp-content/uploads/2025/06/30165608-1.jpg
END:VEVENT
END:VCALENDAR