BEGIN:VCALENDAR
VERSION:2.0
PRODID:-//WatercoloursWA - ECPv6.15.20//NONSGML v1.0//EN
CALSCALE:GREGORIAN
METHOD:PUBLISH
X-WR-CALNAME:WatercoloursWA
X-ORIGINAL-URL:https://watercolourswa.org.au
X-WR-CALDESC:Events for WatercoloursWA
REFRESH-INTERVAL;VALUE=DURATION:PT1H
X-Robots-Tag:noindex
X-PUBLISHED-TTL:PT1H
BEGIN:VTIMEZONE
TZID:Australia/Perth
BEGIN:STANDARD
TZOFFSETFROM:+0800
TZOFFSETTO:+0800
TZNAME:AWST
DTSTART:20230101T000000
END:STANDARD
END:VTIMEZONE
BEGIN:VEVENT
DTSTART;TZID=Australia/Perth:20241207T090000
DTEND;TZID=Australia/Perth:20241207T090000
DTSTAMP:20260421T082143
CREATED:20241128T092903Z
LAST-MODIFIED:20241202T075939Z
UID:240762-1733562000-1733562000@watercolourswa.org.au
SUMMARY:Social Paint Out - 7 December 2024
DESCRIPTION:Social Paint Out: 7th December\nOrganizer: Jane Zandi\nPhone: 0403 940 699\nStart: 9am\nLocation: City Farm\, East Perth
URL:https://watercolourswa.org.au/event/social-paint-out/
LOCATION:Perth City Farm\, 1 City Farm Place\, East Perth\, WA\, 6004\, Australia
CATEGORIES:Featured,Paint Out
ATTACH;FMTTYPE=image/jpeg:https://watercolourswa.org.au/wp-content/uploads/2024/11/Lisa-Nicole-Imagery2.jpg
ORGANIZER;CN="Jane Zandi":MAILTO:president@watercolourswa.org.au
END:VEVENT
END:VCALENDAR