BEGIN:VCALENDAR
VERSION:2.0
PRODID:-//WatercoloursWA - ECPv6.15.20//NONSGML v1.0//EN
CALSCALE:GREGORIAN
METHOD:PUBLISH
X-ORIGINAL-URL:https://watercolourswa.org.au
X-WR-CALDESC:Events for WatercoloursWA
REFRESH-INTERVAL;VALUE=DURATION:PT1H
X-Robots-Tag:noindex
X-PUBLISHED-TTL:PT1H
BEGIN:VTIMEZONE
TZID:Australia/Perth
BEGIN:STANDARD
TZOFFSETFROM:+0800
TZOFFSETTO:+0800
TZNAME:AWST
DTSTART:20240101T000000
END:STANDARD
END:VTIMEZONE
BEGIN:VEVENT
DTSTART;TZID=Australia/Perth:20251118T100000
DTEND;TZID=Australia/Perth:20251118T150000
DTSTAMP:20260421T101736
CREATED:20241229T003805Z
LAST-MODIFIED:20251028T031453Z
UID:241176-1763460000-1763478000@watercolourswa.org.au
SUMMARY:General Meeting/Christmas Lunch - Tuesday 18 November 2025
DESCRIPTION:Show us Your Art: Christmas and other Cards\nGuest Hour: It’s the Christmas Lunch!\n$25 For the lunch \nClick here to register
URL:https://watercolourswa.org.au/event/general-meeting-tuesday-18-november-2025/
LOCATION:Inglewood Arts Hub\, 895 Beaufort St\, Inglewood\, Western Australia\, 6052\, Australia
CATEGORIES:General Meeting
ATTACH;FMTTYPE=image/jpeg:https://watercolourswa.org.au/wp-content/uploads/2021/11/christmas-tree-574742_960_720.jpg
END:VEVENT
END:VCALENDAR