BEGIN:VCALENDAR
VERSION:2.0
PRODID:-//WatercoloursWA - ECPv6.15.20//NONSGML v1.0//EN
CALSCALE:GREGORIAN
METHOD:PUBLISH
X-ORIGINAL-URL:https://watercolourswa.org.au
X-WR-CALDESC:Events for WatercoloursWA
REFRESH-INTERVAL;VALUE=DURATION:PT1H
X-Robots-Tag:noindex
X-PUBLISHED-TTL:PT1H
BEGIN:VTIMEZONE
TZID:Australia/Perth
BEGIN:STANDARD
TZOFFSETFROM:+0800
TZOFFSETTO:+0800
TZNAME:AWST
DTSTART:20240101T000000
END:STANDARD
END:VTIMEZONE
BEGIN:VEVENT
DTSTART;TZID=Australia/Perth:20250923T100000
DTEND;TZID=Australia/Perth:20250923T123000
DTSTAMP:20260422T053652
CREATED:20250624T021040Z
LAST-MODIFIED:20250624T021923Z
UID:241712-1758621600-1758630600@watercolourswa.org.au
SUMMARY:General Meeting - Tuesday 23 September 2025
DESCRIPTION:Show us your art: Water \nGuest Hour: Polla Posevec – How to critique your work. \n 
URL:https://watercolourswa.org.au/event/general-meeting-tuesday-23-september-2025/
LOCATION:Inglewood Arts Hub\, 895 Beaufort St\, Inglewood\, Western Australia\, 6052\, Australia
CATEGORIES:General Meeting
ATTACH;FMTTYPE=image/webp:https://watercolourswa.org.au/wp-content/uploads/2025/06/w00962p-900x600.jpg.webp
END:VEVENT
END:VCALENDAR