BEGIN:VCALENDAR
VERSION:2.0
PRODID:-//WatercoloursWA - ECPv6.15.20//NONSGML v1.0//EN
CALSCALE:GREGORIAN
METHOD:PUBLISH
X-ORIGINAL-URL:https://watercolourswa.org.au
X-WR-CALDESC:Events for WatercoloursWA
REFRESH-INTERVAL;VALUE=DURATION:PT1H
X-Robots-Tag:noindex
X-PUBLISHED-TTL:PT1H
BEGIN:VTIMEZONE
TZID:Australia/Perth
BEGIN:STANDARD
TZOFFSETFROM:+0800
TZOFFSETTO:+0800
TZNAME:AWST
DTSTART:20240101T000000
END:STANDARD
END:VTIMEZONE
BEGIN:VEVENT
DTSTART;TZID=Australia/Perth:20251007T100000
DTEND;TZID=Australia/Perth:20251007T123000
DTSTAMP:20260421T070544
CREATED:20241229T001300Z
LAST-MODIFIED:20241229T002116Z
UID:241165-1759831200-1759840200@watercolourswa.org.au
SUMMARY:Committee Meeting - Tuesday 7 October 2025
DESCRIPTION:
URL:https://watercolourswa.org.au/event/committee-meeting-tuesday-7-october-2025/
LOCATION:Inglewood Arts Hub\, 895 Beaufort St\, Inglewood\, Western Australia\, 6052\, Australia
CATEGORIES:Committee Meeting
ATTACH;FMTTYPE=image/jpeg:https://watercolourswa.org.au/wp-content/uploads/2024/12/vecteezy_teamwork-or-team-building-office-business-meeting-vector_4154417-e1735431649696.jpg
END:VEVENT
END:VCALENDAR