BEGIN:VCALENDAR
VERSION:2.0
PRODID:-//WatercoloursWA - ECPv6.15.20//NONSGML v1.0//EN
CALSCALE:GREGORIAN
METHOD:PUBLISH
X-WR-CALNAME:WatercoloursWA
X-ORIGINAL-URL:https://watercolourswa.org.au
X-WR-CALDESC:Events for WatercoloursWA
REFRESH-INTERVAL;VALUE=DURATION:PT1H
X-Robots-Tag:noindex
X-PUBLISHED-TTL:PT1H
BEGIN:VTIMEZONE
TZID:Australia/Perth
BEGIN:STANDARD
TZOFFSETFROM:+0800
TZOFFSETTO:+0800
TZNAME:AWST
DTSTART:20250101T000000
END:STANDARD
END:VTIMEZONE
BEGIN:VEVENT
DTSTART;TZID=Australia/Perth:20260303T100000
DTEND;TZID=Australia/Perth:20260303T110000
DTSTAMP:20260420T055505
CREATED:20251119T010629Z
LAST-MODIFIED:20251119T010629Z
UID:242293-1772532000-1772535600@watercolourswa.org.au
SUMMARY:Committee Meeting March 2026
DESCRIPTION:
URL:https://watercolourswa.org.au/event/committee-meeting-march-2026/
LOCATION:Inglewood Arts Hub\, 895 Beaufort St\, Inglewood\, Western Australia\, 6052\, Australia
CATEGORIES:Committee Meeting
END:VEVENT
END:VCALENDAR