BEGIN:VCALENDAR
VERSION:2.0
PRODID:-//WatercoloursWA - ECPv6.15.20//NONSGML v1.0//EN
CALSCALE:GREGORIAN
METHOD:PUBLISH
X-WR-CALNAME:WatercoloursWA
X-ORIGINAL-URL:https://watercolourswa.org.au
X-WR-CALDESC:Events for WatercoloursWA
REFRESH-INTERVAL;VALUE=DURATION:PT1H
X-Robots-Tag:noindex
X-PUBLISHED-TTL:PT1H
BEGIN:VTIMEZONE
TZID:Australia/Perth
BEGIN:STANDARD
TZOFFSETFROM:+0800
TZOFFSETTO:+0800
TZNAME:AWST
DTSTART:20240101T000000
END:STANDARD
END:VTIMEZONE
BEGIN:VEVENT
DTSTART;TZID=Australia/Perth:20250903T080000
DTEND;TZID=Australia/Perth:20250907T170000
DTSTAMP:20260421T075052
CREATED:20241220T075439Z
LAST-MODIFIED:20241220T075439Z
UID:241016-1756886400-1757264400@watercolourswa.org.au
SUMMARY:Annual Awards Exhibition - Wed 3 to Sunday 7 September
DESCRIPTION:Special Category: ‘Caring’
URL:https://watercolourswa.org.au/event/annual-awards-exhibition-wed-3-to-sunday-7-september/
LOCATION:Perth City Farm\, 1 City Farm Place\, East Perth\, WA\, 6004\, Australia
CATEGORIES:AAE,Exhibition
ATTACH;FMTTYPE=image/png:https://watercolourswa.org.au/wp-content/uploads/2024/12/Screenshot-2024-12-20-at-15-53-30-7-Facebook.png
END:VEVENT
END:VCALENDAR