BEGIN:VCALENDAR
VERSION:2.0
PRODID:-//WatercoloursWA - ECPv6.15.20//NONSGML v1.0//EN
CALSCALE:GREGORIAN
METHOD:PUBLISH
X-WR-CALNAME:WatercoloursWA
X-ORIGINAL-URL:https://watercolourswa.org.au
X-WR-CALDESC:Events for WatercoloursWA
REFRESH-INTERVAL;VALUE=DURATION:PT1H
X-Robots-Tag:noindex
X-PUBLISHED-TTL:PT1H
BEGIN:VTIMEZONE
TZID:Australia/Perth
BEGIN:STANDARD
TZOFFSETFROM:+0800
TZOFFSETTO:+0800
TZNAME:AWST
DTSTART:20230101T000000
END:STANDARD
END:VTIMEZONE
BEGIN:VEVENT
DTSTART;VALUE=DATE:20241101
DTEND;VALUE=DATE:20241202
DTSTAMP:20260424T071211
CREATED:20240717T090335Z
LAST-MODIFIED:20240809T001315Z
UID:239829-1730419200-1733097599@watercolourswa.org.au
SUMMARY:York Exhibition
DESCRIPTION:An exhibition at the Pantechnica Gallery art and artifacts in the centre of York.  Paintings will be painted during the Getaway.  Bring frames when you come to York and be ready to exhibit.
URL:https://watercolourswa.org.au/event/york-exhibition/
LOCATION:Western Australia
CATEGORIES:Exhibition
END:VEVENT
END:VCALENDAR